BEGIN:VCALENDAR
VERSION:2.0
PRODID:-//Tukios.com/
BEGIN:VEVENT
UID:c8f4620f-1276-487e-8226-3fb388d698e0@www.hovcremation.com
DTSTAMP:20260424T173716Z
DTSTART:20260808T160000Z
DTEND:20260808T170000Z
SUMMARY:Funeral Service
DESCRIPTION:
URL:https://www.hovcremation.com/obituaries/jeanne-carney
LOCATION:Saint Patrick Church 210 Center Avenue  Weston WV 26452
GEO:39.0377181;-80.4657099
END:VEVENT
END:VCALENDAR