BEGIN:VCALENDAR
VERSION:2.0
PRODID:-//Tukios.com/
BEGIN:VEVENT
UID:6cce9f7c-c96a-4d73-bca8-5758f096955d@www.hovcremation.com
DTSTAMP:20260421T211617Z
DTSTART:20260508T200000Z
DTEND:20260508T220000Z
SUMMARY:Visitation
DESCRIPTION:
URL:https://www.hovcremation.com/obituaries/william-bywater
LOCATION:Masonic Lodge 2324 East Richmond Street  Shawano WI 54166
GEO:44.7744126;-88.5851475
END:VEVENT
END:VCALENDAR