BEGIN:VCALENDAR
VERSION:2.0
PRODID:-//Tukios.com/
BEGIN:VEVENT
UID:e2fad1fb-7595-4dbd-9586-783d46d23bb5@www.hovcremation.com
DTSTAMP:20260421T211336Z
DTSTART:20260508T220000Z
DTEND:20260508T230000Z
SUMMARY:Memorial Service
DESCRIPTION:
URL:https://www.hovcremation.com/obituaries/william-bywater
LOCATION:Masonic Lodge 2324 E Richmond St  Shawano WI 54166
GEO:44.7744126;-88.5851475
END:VEVENT
END:VCALENDAR